BEGIN:VCALENDAR
VERSION:2.0
PRODID:-//eventon.com NONSGML v1.0//EN
BEGIN:VEVENT
UID:69e9eb6f0da09
DTSTAMP:20260423T055039
DTSTART:000000T000000Z
DTEND:172799T000000Z
TZID:Pacific/Midway
LOCATION:
SUMMARY:Parent/Teacher Conferences (School closed for all age levels)
DESCRIPTION: Parent/Teacher conferences are for adults only.  Your child’s teacher will provide you with available conference dates and times via the classroom email.  Traditionally\,  Day Camp is available for an extra daily fee for those families in need of childcare\,  please see the Day Camp option on the calendar if it[..]
URL:https://glenmontessori.org/events/parent-teacher-conferences-school-closed-adults-only-please-spring-training-day-camp-800am-500pm-2-2-3/
END:VEVENT
END:VCALENDAR