BEGIN:VCALENDAR
VERSION:2.0
PRODID:-//eventon.com NONSGML v1.0//EN
BEGIN:VEVENT
UID:69e88ab63c231
DTSTAMP:20260422T044542
DTSTART:000000T000000Z
DTEND:086399T000000Z
TZID:Pacific/Midway
LOCATION:
SUMMARY:MARTIN LUTHER KING\,  JR. DAY- SCHOOL CLOSED
DESCRIPTION: The Glen Montessori School is closed on this day\,  allowing families to honor Dr. Martin Luther King\,  Jr. and participate in a National Day of Service in a way that aligns with their family&#8217;s priorities and goals. The Martin Luther King Jr. National Day of Service was created to honor Dr.[..]
URL:https://glenmontessori.org/events/martin-luther-king-jr-day-school-closed-4-2/
END:VEVENT
END:VCALENDAR